BEGIN:VCALENDAR
VERSION:2.0
PRODID:Dresden City Museum
BEGIN:VEVENT
UID:91f2eb91-8ddc-4f5b-9dd2-9ffa3be77d04
DTSTART;TZID=Europe/Berlin:20260517T110000
DTEND;TZID=Europe/Berlin:20260517T120000
SEQUENCE:0
TRANSP:OPAQUE
LOCATION:Dresden City Museum (Wilsdruffer Straße 2 01067 Dresden)
SUMMARY:Guided tours on International Museum Day
CLASS:PUBLIC
DESCRIPTION:Duration: 1 hourMeeting point at the ticket officeRegistration online or at the Visitor Service of the Museums of the City of Dresden on +49 351 488 7272 (Mon - Fri)
DTSTAMP:20260422T112400Z
END:VEVENT
END:VCALENDAR
