BEGIN:VCALENDAR
VERSION:2.0
PRODID:Dresden City Museum
BEGIN:VEVENT
UID:7b5a2c0c-bc0b-4650-b34b-f3505f61c529
DTSTART;TZID=Europe/Berlin:20260517T100000
DTEND;TZID=Europe/Berlin:20260517T180000
SEQUENCE:0
TRANSP:OPAQUE
LOCATION:Dresden City Museum (Wilsdruffer Straße 2 01067 Dresden)
SUMMARY:International Museum Day at the City Museum
CLASS:PUBLIC
DESCRIPTION:On International Museum Day, we invite you to visit our exhibitions free of charge.Platte OST / WEST. Living and building in large panel construction800 years of Dresden. History(s) from the beginnings to the present dayGrandmaster Wolfgang Uhlmann. The chess legend from Dresden (presentation on the gallery gallery)The Eternal Scripture - A Torah for Dresden (public cultural project of the Jewish Community of Dresden)
DTSTAMP:20260422T185800Z
END:VEVENT
END:VCALENDAR
